BEGIN:VCALENDAR
VERSION:2.0
PRODID:-//Westar - ECPv6.15.18//NONSGML v1.0//EN
CALSCALE:GREGORIAN
METHOD:PUBLISH
X-WR-CALNAME:Westar
X-ORIGINAL-URL:https://westar.org
X-WR-CALDESC:Events for Westar
REFRESH-INTERVAL;VALUE=DURATION:PT1H
X-Robots-Tag:noindex
X-PUBLISHED-TTL:PT1H
BEGIN:VTIMEZONE
TZID:Pacific/Honolulu
BEGIN:STANDARD
TZOFFSETFROM:-1000
TZOFFSETTO:-1000
TZNAME:HST
DTSTART:20240101T000000
END:STANDARD
END:VTIMEZONE
BEGIN:VEVENT
DTSTART;TZID=Pacific/Honolulu:20260407T083000
DTEND;TZID=Pacific/Honolulu:20260409T163000
DTSTAMP:20260420T092113
CREATED:20260108T173223Z
LAST-MODIFIED:20260413T161528Z
UID:10000356-1775550600-1775752200@westar.org
SUMMARY:Continuous Monitoring Systems (SRCE 104) -- In-Person Training
DESCRIPTION:COURSE BROCHURE \nCOURSE DESCRIPTION \nThe Continuous Monitoring Systems (CMS) training course is 3 days and in-person.  It provides participants with a basic understanding of CMS including an overview of how to perform regulatory reviews and includes key concepts\, terminology\, techniques\, and information on CMS\, including types\, regulations\, analytical techniques\, systems design and components\, performance specifications (PS)\, quality assurance (QA) requirements\, commonly used technologies\, audits/inspections\, and enforcement procedures. In addition to the instructor presentation and lecture\, participants have opportunities to apply their knowledge through practical exercises\, facilitated discussions\, and knowledge check games. \nThere are four modules in this course and an introductory module: \n\nCourse Introduction\nModule 1: Introduction to CMS\nModule 2: Overview of CMS and CMS Design and Components\nModule 3: Performance Specifications\, Quality Assurance\, and Commonly Used Technologies\n\nTARGET AUDIENCE \nThis course is intended for a broad audience and could include participants with non-technical backgrounds (e.g.\, a basic degree in science) as well as technical backgrounds (e.g.\, a chemical engineering degree). No prior knowledge of CMS is presumed. This course is intended primarily for new hires or any participants who need an understanding of CMS in their job responsibilities. \nStaff who could benefit from the course include\, but are not limited to the following: \n\nStaff who are inspection and/or enforcement personnel\nStaff who observe stack test and CMS certifications\nStaff who are reviewing audit reports\nStaff who work on permits\n\nTo Register click: EPA’s AirKnowledge \nCourse Materials
URL:https://westar.org/event/continuous-monitoring-systems-srce-104/
LOCATION:Hawaii Clean Air Branch\, 2827 Waimano Home Rd #130\, Pearl City\, 96782\, United States
CATEGORIES:Training
ORGANIZER;CN="Jeff Gabler":MAILTO:jgabler@westar.org
END:VEVENT
BEGIN:VEVENT
DTSTART;TZID=Pacific/Honolulu:20250512T083000
DTEND;TZID=Pacific/Honolulu:20250513T170000
DTSTAMP:20260420T092113
CREATED:20250307T172714Z
LAST-MODIFIED:20250307T172714Z
UID:10000325-1747038600-1747155600@westar.org
SUMMARY:Air Quality Dispersion Modeling - Pearl City
DESCRIPTION:COURSE DESCRIPTION: This 2-day training course is not intended to produce modelers but rather to focus on atmospheric science principles\, model options\, and configurations\, as well as pre- and post-processing steps that ultimately determine the outcome of the modeling study.  The course will develop a solid understanding of regulatory air dispersion modeling fundamentals combined with the application of this knowledge toward solving real-world air quality challenges. Practical and real-world AERMOD examples will be utilized throughout the course to effectively demonstrate how these topics work together to influence model outcomes.  In addition\, hands-on training is incorporated throughout the training to reinforce concepts. \nThe intent of the course is to empower permit engineers and managers with the knowledge and real-world experience needed to quickly assess the validity of model selection\, configuration\, and results interpretation as related to specific regulatory programs. Emphasis is on explaining and demonstrating important modeling concepts that permit writers and managers must understand to make informed and defensible decisions during the permitting process to ensure the permit conditions meet regulatory requirements. \nWESTAR’s funding and mission limit attendance at WESTAR’s educational opportunities to staff from government air pollution control agencies. \n  \nTo REGISTER contact Jeff Gabler: 503-744-0486
URL:https://westar.org/event/air-quality-dispersion-modeling-pearl-city/
LOCATION:Hawaii Clean Air Branch\, 2827 Waimano Home Rd #130\, Pearl City\, 96782\, United States
CATEGORIES:Training
ORGANIZER;CN="Jeff Gabler":MAILTO:jgabler@westar.org
END:VEVENT
BEGIN:VEVENT
DTSTART;TZID=Pacific/Honolulu:20250428T080000
DTEND;TZID=Pacific/Honolulu:20250430T170000
DTSTAMP:20260420T092113
CREATED:20250307T171543Z
LAST-MODIFIED:20250307T172440Z
UID:10000324-1745827200-1746032400@westar.org
SUMMARY:Intermediate NSR/PSD
DESCRIPTION:COURSE DESCRIPTION: This 3-day Intermediate NSR/PSD Permitting training course is for SLT agency personnel who have\, or will have\, permitting responsibilities for major sources.  The objectives of the course are to provide with a high-level understanding of permitting elements\, regulatory requirements\, and policies pertaining to the major permitting programs\, and provide attendees with the knowledge\, skills\, and abilities to identify pertinent regulatory and policy materials\, and the ability to apply these to day-to-day responsibilities and activities. \nMajor Topics Include: \n\nNew Source Review and Prevention of Significant Deterioration Programs – Background and History\nDefinitions\nApplicability\nRequirements\nBACT\nNAAQS Analysis\nNetting Analysis\nIncrement and Other Analyses\nRelationship between NSR and other programs\nEffective Use of Exclusions and Permit Procedures\nPre-Application Monitoring Waivers\nOperating Permits\n\nREGISTRATION FEES: There are no registration fees for state\, local or tribal air quality agency staff.  For federal employees the registration fees are $1\,200. \nWESTAR’s funding and mission limit attendance at WESTAR’s educational opportunities to staff from government air pollution control agencies. \nTo Register Please Contact Jeff Gabler: 503-744-0486
URL:https://westar.org/event/intermediate-nsr-psd/
LOCATION:Hawaii Clean Air Branch\, 2827 Waimano Home Rd #130\, Pearl City\, 96782\, United States
CATEGORIES:Training
ORGANIZER;CN="Jeff Gabler":MAILTO:jgabler@westar.org
END:VEVENT
END:VCALENDAR