BEGIN:VCALENDAR
VERSION:2.0
PRODID:-//Westar - ECPv6.15.18//NONSGML v1.0//EN
CALSCALE:GREGORIAN
METHOD:PUBLISH
X-WR-CALNAME:Westar
X-ORIGINAL-URL:https://westar.org
X-WR-CALDESC:Events for Westar
REFRESH-INTERVAL;VALUE=DURATION:PT1H
X-Robots-Tag:noindex
X-PUBLISHED-TTL:PT1H
BEGIN:VTIMEZONE
TZID:America/Denver
BEGIN:DAYLIGHT
TZOFFSETFROM:-0700
TZOFFSETTO:-0600
TZNAME:MDT
DTSTART:20220313T090000
END:DAYLIGHT
BEGIN:STANDARD
TZOFFSETFROM:-0600
TZOFFSETTO:-0700
TZNAME:MST
DTSTART:20221106T080000
END:STANDARD
BEGIN:DAYLIGHT
TZOFFSETFROM:-0700
TZOFFSETTO:-0600
TZNAME:MDT
DTSTART:20230312T090000
END:DAYLIGHT
BEGIN:STANDARD
TZOFFSETFROM:-0600
TZOFFSETTO:-0700
TZNAME:MST
DTSTART:20231105T080000
END:STANDARD
BEGIN:DAYLIGHT
TZOFFSETFROM:-0700
TZOFFSETTO:-0600
TZNAME:MDT
DTSTART:20240310T090000
END:DAYLIGHT
BEGIN:STANDARD
TZOFFSETFROM:-0600
TZOFFSETTO:-0700
TZNAME:MST
DTSTART:20241103T080000
END:STANDARD
END:VTIMEZONE
BEGIN:VEVENT
DTSTART;VALUE=DATE:20230828
DTEND;VALUE=DATE:20230831
DTSTAMP:20260420T233845
CREATED:20230710T154514Z
LAST-MODIFIED:20230710T154514Z
UID:10000049-1693180800-1693439999@westar.org
SUMMARY:ECOS Fall Meeting
DESCRIPTION:
URL:https://westar.org/event/ecos-fall-meeting/
LOCATION:Boulder\, CO
END:VEVENT
BEGIN:VEVENT
DTSTART;TZID=America/Denver:20230830T123000
DTEND;TZID=America/Denver:20230830T140000
DTSTAMP:20260420T233845
CREATED:20230830T175525Z
LAST-MODIFIED:20230830T180533Z
UID:10000187-1693398600-1693404000@westar.org
SUMMARY:TSC/WG Co-Chairs Monthly Coordination Call
DESCRIPTION:Monthly Coordination Call with WRAP Technical Steering Committee and WRAP Work Group Co-Chairs \nAgenda\nWork Group Updates
URL:https://westar.org/event/tsc-wg-co-chairs-monthly-coordination-call-5/
END:VEVENT
END:VCALENDAR