BEGIN:VCALENDAR
VERSION:2.0
PRODID:-//Westar - ECPv6.15.18//NONSGML v1.0//EN
CALSCALE:GREGORIAN
METHOD:PUBLISH
X-WR-CALNAME:Westar
X-ORIGINAL-URL:https://westar.org
X-WR-CALDESC:Events for Westar
REFRESH-INTERVAL;VALUE=DURATION:PT1H
X-Robots-Tag:noindex
X-PUBLISHED-TTL:PT1H
BEGIN:VTIMEZONE
TZID:America/Denver
BEGIN:DAYLIGHT
TZOFFSETFROM:-0700
TZOFFSETTO:-0600
TZNAME:MDT
DTSTART:20220313T090000
END:DAYLIGHT
BEGIN:STANDARD
TZOFFSETFROM:-0600
TZOFFSETTO:-0700
TZNAME:MST
DTSTART:20221106T080000
END:STANDARD
BEGIN:DAYLIGHT
TZOFFSETFROM:-0700
TZOFFSETTO:-0600
TZNAME:MDT
DTSTART:20230312T090000
END:DAYLIGHT
BEGIN:STANDARD
TZOFFSETFROM:-0600
TZOFFSETTO:-0700
TZNAME:MST
DTSTART:20231105T080000
END:STANDARD
BEGIN:DAYLIGHT
TZOFFSETFROM:-0700
TZOFFSETTO:-0600
TZNAME:MDT
DTSTART:20240310T090000
END:DAYLIGHT
BEGIN:STANDARD
TZOFFSETFROM:-0600
TZOFFSETTO:-0700
TZNAME:MST
DTSTART:20241103T080000
END:STANDARD
END:VTIMEZONE
BEGIN:VEVENT
DTSTART;VALUE=DATE:20230822
DTEND;VALUE=DATE:20230823
DTSTAMP:20260420T233832
CREATED:20230420T191305Z
LAST-MODIFIED:20230420T191519Z
UID:10000033-1692662400-1692748799@westar.org
SUMMARY:Compliance Assurance Monitoring (PERM204)
DESCRIPTION:Course Description: Those completing this course will gain a basic understanding of the general information associated with compliance assurance monitoring. CAM concepts like background\, 40 CFR part 64 (CAM) applicability\, who will be affected by CAM\, who is exempt from CAM\, CAM timing\, monitoring design criteria\, frequency of monitoring\, source\, District & EPA roles in evaluating CAM plans\, quality improvement plans will be discussed in this course. \nAttendees will be able to perform regulatory reviews involving the following elements of CAM: \n\nEffect of Title V\nBackground of CAM\nPart 64 applicability\nException\nCAM monitoring design criteria\nSource\, district\, and EPA Roles\nQuality Improvement plan\n\nTarget Audience: This course is intended for entry-level staff. \nWESTAR’s funding and mission limit attendance at WESTAR’s educational opportunities to staff from government air pollution control agencies. \nCourse Brochure \nTo REGISTER log onto EPA’s AirKnowledge
URL:https://westar.org/event/compliance-assurance-monitoring-perm204/
LOCATION:Northern Nevada Public Health\, 1001 E. Ninth Street\, Reno\, NV\, 89512\, United States
CATEGORIES:Training
END:VEVENT
BEGIN:VEVENT
DTSTART;VALUE=DATE:20230823
DTEND;VALUE=DATE:20230824
DTSTAMP:20260420T233832
CREATED:20230420T191805Z
LAST-MODIFIED:20230420T191924Z
UID:10000034-1692748800-1692835199@westar.org
SUMMARY:Incinerators (TOXC222)
DESCRIPTION:Incinerators (TOXC220): \nCourse Description: This course will focus on the process\, emission control equipment and inspection procedures of small to medium sized solid waste incinerators. The types of incinerators include biomedical\, pathological\, crematories and commercial heat stripping ovens. This course does not address municipal waste combustors\, biomass or hazardous waste incinerators. There is an afternoon field visit where students will receive first-hand experience during a mock inspection of a local business \nThe following topics will be covered in this course: \n\n3 T’s of combustion\nTypes of combustion\nCategories of Industrial Incinerators\nTypical Incinerator Operating Procedures\nTypical Operational Errors\nIncinerator Emissions & Control\nIncinerator Inspection\nAir Pollution Control Points of Inspection\n\nTarget Audience: This course is intended for entry-level staff. \nWESTAR’s funding and mission limit attendance at WESTAR’s educational opportunities to staff from government air pollution control agencies. \nCourse Brochure \nTo REGISTER log onto EPA AirKnowledge
URL:https://westar.org/event/incinerators-toxc222/
LOCATION:Northern Nevada Public Health\, 1001 E. Ninth Street\, Reno\, NV\, 89512\, United States
CATEGORIES:Training
END:VEVENT
BEGIN:VEVENT
DTSTART;TZID=America/Denver:20230823T140000
DTEND;TZID=America/Denver:20230823T150000
DTSTAMP:20260420T233832
CREATED:20230822T201516Z
LAST-MODIFIED:20230822T201517Z
UID:10000127-1692799200-1692802800@westar.org
SUMMARY:WESTAR Joint Planning and Technical Committee
DESCRIPTION:The WESTAR Planning and Technical Committees will hold a joint call to hear about research and resources from the NASA HEALTH AND AIR QUALITY APPLIED SCIENCES TEAM (HAQAST). \nIf you are interested in attending these calls\, please contact Jay Baker at jbaker@westar.org.
URL:https://westar.org/event/westar-technical-committee-2/
CATEGORIES:Committee
ORGANIZER;CN="Jay Baker":MAILTO:jbaker@westar.org
END:VEVENT
BEGIN:VEVENT
DTSTART;VALUE=DATE:20230824
DTEND;VALUE=DATE:20230826
DTSTAMP:20260420T233832
CREATED:20230420T192138Z
LAST-MODIFIED:20230420T192435Z
UID:10000035-1692835200-1693007999@westar.org
SUMMARY:Theory & Application of Common Air Pollution Control Devices (BASC107)
DESCRIPTION:Course Description: This course will provide a detailed introduction to air pollution control equipment and methods used to control particulate and gaseous air emissions. The course will cover theory\, operation\, applications\, design considerations\, inspection strategies\, compliance assurance monitoring and regulations for cyclones\, baghouses\, wet and dry scrubbers\, electrostatic precipitators\, carbon beds\, bio filters\, condensers\, flares\, thermal and catalytic oxidizers. NOx controls like selective catalytic reduction (SCR)\, selective non-catalytic reduction (SNCR)\, flue gas recirculation (FGR)\, and ultra-low NOx burners will also be discussed. \nTarget Audience: This course is intended for entry-level staff. \nWESTAR’s funding and mission limit attendance at WESTAR’s educational opportunities to staff from government air pollution control agencies. \nCourse Brochure \nTo REGISTER log onto EPA’s AirKnowledge.
URL:https://westar.org/event/theory-application-of-common-air-pollution-control-devices-basc107/
LOCATION:Northern Nevada Public Health\, 1001 E. Ninth Street\, Reno\, NV\, 89512\, United States
CATEGORIES:Training
END:VEVENT
BEGIN:VEVENT
DTSTART;VALUE=DATE:20230824
DTEND;VALUE=DATE:20230826
DTSTAMP:20260420T233832
CREATED:20230710T154238Z
LAST-MODIFIED:20230710T154238Z
UID:10000048-1692835200-1693007999@westar.org
SUMMARY:Rocky Mountain Wildfire Smoke Symposium
DESCRIPTION:Agenda and hotel info:  https://www.toxicology.org/groups/rc/mtwsot/index.asp
URL:https://westar.org/event/rocky-mountain-wildfire-smoke-symposium/
LOCATION:Denver\, CO
CATEGORIES:Workshop
END:VEVENT
END:VCALENDAR