BEGIN:VCALENDAR
VERSION:2.0
PRODID:-//Westar - ECPv6.15.18//NONSGML v1.0//EN
CALSCALE:GREGORIAN
METHOD:PUBLISH
X-ORIGINAL-URL:https://westar.org
X-WR-CALDESC:Events for Westar
REFRESH-INTERVAL;VALUE=DURATION:PT1H
X-Robots-Tag:noindex
X-PUBLISHED-TTL:PT1H
BEGIN:VTIMEZONE
TZID:America/Denver
BEGIN:DAYLIGHT
TZOFFSETFROM:-0700
TZOFFSETTO:-0600
TZNAME:MDT
DTSTART:20230312T090000
END:DAYLIGHT
BEGIN:STANDARD
TZOFFSETFROM:-0600
TZOFFSETTO:-0700
TZNAME:MST
DTSTART:20231105T080000
END:STANDARD
BEGIN:DAYLIGHT
TZOFFSETFROM:-0700
TZOFFSETTO:-0600
TZNAME:MDT
DTSTART:20240310T090000
END:DAYLIGHT
BEGIN:STANDARD
TZOFFSETFROM:-0600
TZOFFSETTO:-0700
TZNAME:MST
DTSTART:20241103T080000
END:STANDARD
BEGIN:DAYLIGHT
TZOFFSETFROM:-0700
TZOFFSETTO:-0600
TZNAME:MDT
DTSTART:20250309T090000
END:DAYLIGHT
BEGIN:STANDARD
TZOFFSETFROM:-0600
TZOFFSETTO:-0700
TZNAME:MST
DTSTART:20251102T080000
END:STANDARD
END:VTIMEZONE
BEGIN:VTIMEZONE
TZID:America/Los_Angeles
BEGIN:DAYLIGHT
TZOFFSETFROM:-0800
TZOFFSETTO:-0700
TZNAME:PDT
DTSTART:20230312T100000
END:DAYLIGHT
BEGIN:STANDARD
TZOFFSETFROM:-0700
TZOFFSETTO:-0800
TZNAME:PST
DTSTART:20231105T090000
END:STANDARD
BEGIN:DAYLIGHT
TZOFFSETFROM:-0800
TZOFFSETTO:-0700
TZNAME:PDT
DTSTART:20240310T100000
END:DAYLIGHT
BEGIN:STANDARD
TZOFFSETFROM:-0700
TZOFFSETTO:-0800
TZNAME:PST
DTSTART:20241103T090000
END:STANDARD
BEGIN:DAYLIGHT
TZOFFSETFROM:-0800
TZOFFSETTO:-0700
TZNAME:PDT
DTSTART:20250309T100000
END:DAYLIGHT
BEGIN:STANDARD
TZOFFSETFROM:-0700
TZOFFSETTO:-0800
TZNAME:PST
DTSTART:20251102T090000
END:STANDARD
END:VTIMEZONE
BEGIN:VEVENT
DTSTART;TZID=America/Denver:20240104T140000
DTEND;TZID=America/Denver:20240104T150000
DTSTAMP:20260420T111843
CREATED:20230804T171123Z
LAST-MODIFIED:20230804T172232Z
UID:10000071-1704376800-1704380400@westar.org
SUMMARY:WESTAR Planning Committee
DESCRIPTION:The WESTAR Planning Committee includes air quality planners from the 15 member states. Planners from Tribal and local air agencies as well as EPA and Federal Land Management agencies are welcome to attend. These calls occur every month on the First Thursday at 2:00 Mountain Time. The purpose of the call is to identify policy issues of concern\, make recommendations and comment on EPA policies and proposals\, and exchange information and expertise on relevant topics. \nIf you are interested in attending these calls\, please contact Jay Baker at jbaker@westar.org.
URL:https://westar.org/event/westar-planning-committee/2024-01-04/
CATEGORIES:Committee
ORGANIZER;CN="Jay Baker":MAILTO:jbaker@westar.org
END:VEVENT
BEGIN:VEVENT
DTSTART;TZID=America/Los_Angeles:20240116T090000
DTEND;TZID=America/Los_Angeles:20240118T140000
DTSTAMP:20260420T111843
CREATED:20231030T183033Z
LAST-MODIFIED:20231030T184327Z
UID:10000256-1705395600-1705586400@westar.org
SUMMARY:ONLINE - Effective Permit Writing
DESCRIPTION:COURSE DESCRIPTION: This online course presents information on the major national programs in air pollution stationary source permitting. This course was designed to provide methods and procedures used to effectively draft and review permit conditions used with a variety of permit programs. This course is designed for personnel of state and local permitting agencies who are new to permit programs\, managers of programs which are impacted by permits\, and inspectors who must read and interpret permit conditions. Examples of the various types of permit conditions are presented along with practical exercises. \nMAJOR TOPICS: \n\nIdentification of the components required in a complete permit application evaluation\,\nExplanation of the functions and purposes of each component of a complete permit application\,\nDescription of the characteristics of an effective permit\,\nExplanation of the process\, approaches that can be used to assure an effective permit is produced.\n\nWESTAR’s funding and mission limit attendance at WESTAR’s educational opportunities to staff from government air pollution control agencies. \nCourse Brochure \nTo REGISTER log onto EPA’s AirKnowledge
URL:https://westar.org/event/online-effective-permit-writing-2/
CATEGORIES:Training
END:VEVENT
BEGIN:VEVENT
DTSTART;TZID=America/Denver:20240124T140000
DTEND;TZID=America/Denver:20240124T150000
DTSTAMP:20260420T111843
CREATED:20230804T172100Z
LAST-MODIFIED:20230804T172100Z
UID:10000132-1706104800-1706108400@westar.org
SUMMARY:WESTAR Technical Committee
DESCRIPTION:The WESTAR Technical Committee includes technical professionals from the 15 member states. Participants come from a variety of backgrounds including monitoring\, emissions inventory\, and modeling analysis. Technical professionals from Tribal and local air agencies as well as EPA and Federal Land Management agencies are welcome to attend. These calls occur every month on the First Thursday at 2:00 Mountain Time. The purpose of the call is to identify policy issues of concern\, make recommendations and comment on EPA policies and proposals\, and exchange information and expertise on relevant topics. \nIf you are interested in attending these calls\, please contact Jay Baker at jbaker@westar.org.
URL:https://westar.org/event/westar-technical-committee/2024-01-24/
CATEGORIES:Committee
ORGANIZER;CN="Jay Baker":MAILTO:jbaker@westar.org
END:VEVENT
BEGIN:VEVENT
DTSTART;TZID=America/Denver:20240131T123000
DTEND;TZID=America/Denver:20240131T140000
DTSTAMP:20260420T111843
CREATED:20240130T195457Z
LAST-MODIFIED:20240131T002839Z
UID:10000271-1706704200-1706709600@westar.org
SUMMARY:TSC/WG Co-Chairs Monthly Coordination Call
DESCRIPTION:Monthly Coordination Call with WRAP Technical Steering Committee and WRAP Work Group Co-Chairs \nAgenda\nWork Group Updates
URL:https://westar.org/event/tsc-wg-co-chairs-monthly-coordination-call-8/
END:VEVENT
END:VCALENDAR