BEGIN:VCALENDAR
VERSION:2.0
PRODID:-//Westar - ECPv6.15.18//NONSGML v1.0//EN
CALSCALE:GREGORIAN
METHOD:PUBLISH
X-WR-CALNAME:Westar
X-ORIGINAL-URL:https://westar.org
X-WR-CALDESC:Events for Westar
REFRESH-INTERVAL;VALUE=DURATION:PT1H
X-Robots-Tag:noindex
X-PUBLISHED-TTL:PT1H
BEGIN:VTIMEZONE
TZID:America/Denver
BEGIN:DAYLIGHT
TZOFFSETFROM:-0700
TZOFFSETTO:-0600
TZNAME:MDT
DTSTART:20220313T090000
END:DAYLIGHT
BEGIN:STANDARD
TZOFFSETFROM:-0600
TZOFFSETTO:-0700
TZNAME:MST
DTSTART:20221106T080000
END:STANDARD
BEGIN:DAYLIGHT
TZOFFSETFROM:-0700
TZOFFSETTO:-0600
TZNAME:MDT
DTSTART:20230312T090000
END:DAYLIGHT
BEGIN:STANDARD
TZOFFSETFROM:-0600
TZOFFSETTO:-0700
TZNAME:MST
DTSTART:20231105T080000
END:STANDARD
BEGIN:DAYLIGHT
TZOFFSETFROM:-0700
TZOFFSETTO:-0600
TZNAME:MDT
DTSTART:20240310T090000
END:DAYLIGHT
BEGIN:STANDARD
TZOFFSETFROM:-0600
TZOFFSETTO:-0700
TZNAME:MST
DTSTART:20241103T080000
END:STANDARD
END:VTIMEZONE
BEGIN:VTIMEZONE
TZID:America/Los_Angeles
BEGIN:DAYLIGHT
TZOFFSETFROM:-0800
TZOFFSETTO:-0700
TZNAME:PDT
DTSTART:20220313T100000
END:DAYLIGHT
BEGIN:STANDARD
TZOFFSETFROM:-0700
TZOFFSETTO:-0800
TZNAME:PST
DTSTART:20221106T090000
END:STANDARD
BEGIN:DAYLIGHT
TZOFFSETFROM:-0800
TZOFFSETTO:-0700
TZNAME:PDT
DTSTART:20230312T100000
END:DAYLIGHT
BEGIN:STANDARD
TZOFFSETFROM:-0700
TZOFFSETTO:-0800
TZNAME:PST
DTSTART:20231105T090000
END:STANDARD
BEGIN:DAYLIGHT
TZOFFSETFROM:-0800
TZOFFSETTO:-0700
TZNAME:PDT
DTSTART:20240310T100000
END:DAYLIGHT
BEGIN:STANDARD
TZOFFSETFROM:-0700
TZOFFSETTO:-0800
TZNAME:PST
DTSTART:20241103T090000
END:STANDARD
END:VTIMEZONE
BEGIN:VEVENT
DTSTART;VALUE=DATE:20231003
DTEND;VALUE=DATE:20231005
DTSTAMP:20260420T233834
CREATED:20230630T193903Z
LAST-MODIFIED:20230630T193903Z
UID:10000045-1696291200-1696463999@westar.org
SUMMARY:WESTAR/WRAP Fall Business Meeting
DESCRIPTION:
URL:https://westar.org/event/westar-wrap-fall-business-meeting/
LOCATION:Anchorage\, AK
CATEGORIES:Business Council
END:VEVENT
BEGIN:VEVENT
DTSTART;TZID=America/Denver:20231003T083000
DTEND;TZID=America/Denver:20231004T170000
DTSTAMP:20260420T233834
CREATED:20230714T194041Z
LAST-MODIFIED:20230714T195146Z
UID:10000060-1696321800-1696438800@westar.org
SUMMARY:Aggregate\, Hot Mix Asphalt\, & Concrete Batch Facilities (TOXC219)
DESCRIPTION:LEARNING OBJECTIVES: Those completing this course will gain a basic understanding of the general information associated with aggregate\, asphalt\, & concrete batching operations plants. Attendees will be able to perform regulatory reviews involving the following elements of Aggregate\, Asphalt\, and Concrete Batching operations:\nThe following topics will be covered in this course:\n• 	Emissions and Health Impacts\n• 	Aggregate Industry\n• 	Aggregate Process\n• 	Engineering Evaluation\n• 	Inspection Procedures for Aggregate\, Asphalt and Concrete operation\n• 	Concrete Emissions and Effects\n• 	Hot Mix Process and Control\n• 	Permit Requirements\n• 	Health Impacts \nWESTAR’s funding and mission limit attendance at WESTAR’s educational opportunities to staff from government air pollution control agencies. \nCourse Brochure \nTo REGISTER log onto EPA’s AirKnowledge.
URL:https://westar.org/event/aggregate-hot-mix-asphalt-concrete-batch-facilities-toxc219/
LOCATION:Bachechi Open Space Educational Buidling\, 9521 Rio Grande Blvd NW\, Albuquerque\, NM\, 87114\, United States
CATEGORIES:Training
END:VEVENT
BEGIN:VEVENT
DTSTART;TZID=America/Denver:20231005T083000
DTEND;TZID=America/Denver:20231005T170000
DTSTAMP:20260420T233834
CREATED:20230714T194659Z
LAST-MODIFIED:20230714T195207Z
UID:10000061-1696494600-1696525200@westar.org
SUMMARY:VOC Control Devices (TOXC106)
DESCRIPTION:LEARNING OBJECTIVES: Those completing this course will gain a basic understanding of the general information associated with volatile organic compound control devices. Attendees will be able to perform regulatory reviews involving the following elements of gaseous emissions control: The following topics will be covered in this course:\n•	Absorbers\n•	Adsorbers\n•	Condensers\n•	Oxidizers\n•	Process descriptions\n•	Rule discussion\n•	Inspection procedures \nWESTAR’s funding and mission limit attendance at WESTAR’s educational opportunities to staff from government air pollution control agencies. \nCourse Brochure \nTo REGISTER log onto EPA’s AirKnowledge
URL:https://westar.org/event/voc-control-devices-toxc106/
LOCATION:Bachechi Open Space Educational Buidling\, 9521 Rio Grande Blvd NW\, Albuquerque\, NM\, 87114\, United States
CATEGORIES:Training
END:VEVENT
BEGIN:VEVENT
DTSTART;TZID=America/Denver:20231005T140000
DTEND;TZID=America/Denver:20231005T150000
DTSTAMP:20260420T233834
CREATED:20230804T171123Z
LAST-MODIFIED:20230804T172232Z
UID:10000068-1696514400-1696518000@westar.org
SUMMARY:WESTAR Planning Committee
DESCRIPTION:The WESTAR Planning Committee includes air quality planners from the 15 member states. Planners from Tribal and local air agencies as well as EPA and Federal Land Management agencies are welcome to attend. These calls occur every month on the First Thursday at 2:00 Mountain Time. The purpose of the call is to identify policy issues of concern\, make recommendations and comment on EPA policies and proposals\, and exchange information and expertise on relevant topics. \nIf you are interested in attending these calls\, please contact Jay Baker at jbaker@westar.org.
URL:https://westar.org/event/westar-planning-committee/2023-10-05/
CATEGORIES:Committee
ORGANIZER;CN="Jay Baker":MAILTO:jbaker@westar.org
END:VEVENT
BEGIN:VEVENT
DTSTART;TZID=America/Denver:20231006T083000
DTEND;TZID=America/Denver:20231006T170000
DTSTAMP:20260420T233834
CREATED:20230714T195037Z
LAST-MODIFIED:20230714T195037Z
UID:10000062-1696581000-1696611600@westar.org
SUMMARY:Landfill Gas Control Facilities (TOXC229)
DESCRIPTION:LEARNING OBJECTIVES: Those completing this course will gain a basic understanding of the Landfill Gas control systems. The following topics will be covered in this course:\n• Facts and figures regarding Landfills\n• Primary and Secondary air pollutants at Landfills\n• Methane monitoring equipment\n• Inspections and safety tips\n• Scientific principles behind landfill gas generation\n• Landfill gas collection technologies and principles\n• Landfill gas controls and energy uses\n• Description of landfill gas monitoring equipment and proper use\n• Regulatory Overview and Update on Green House Gas Regulations\, CCR Title 17\, Section 95460\n• Inspection and Safety Tips \nWESTAR’s funding and mission limit attendance at WESTAR’s educational opportunities to staff from government air pollution control agencies. \nCourse Brochure \nTo REGISTER log onto EPA’s AirKnowledge
URL:https://westar.org/event/landfill-gas-control-facilities-toxc229/
LOCATION:Bachechi Open Space Educational Buidling\, 9521 Rio Grande Blvd NW\, Albuquerque\, NM\, 87114\, United States
CATEGORIES:Training
END:VEVENT
BEGIN:VEVENT
DTSTART;VALUE=DATE:20231016
DTEND;VALUE=DATE:20231019
DTSTAMP:20260420T233834
CREATED:20230710T155339Z
LAST-MODIFIED:20230710T155339Z
UID:10000052-1697414400-1697673599@westar.org
SUMMARY:CMAS Conference
DESCRIPTION:
URL:https://westar.org/event/cmas-conference/
CATEGORIES:Conference
END:VEVENT
BEGIN:VEVENT
DTSTART;VALUE=DATE:20231017
DTEND;VALUE=DATE:20231019
DTSTAMP:20260420T233834
CREATED:20230710T155506Z
LAST-MODIFIED:20230710T155506Z
UID:10000053-1697500800-1697673599@westar.org
SUMMARY:IMPROVE Steering Committee Meeting
DESCRIPTION:
URL:https://westar.org/event/improve-steering-committee-meeting/
LOCATION:Glacier National Park\, MT
CATEGORIES:Meeting
END:VEVENT
BEGIN:VEVENT
DTSTART;VALUE=DATE:20231018
DTEND;VALUE=DATE:20231020
DTSTAMP:20260420T233834
CREATED:20230710T155638Z
LAST-MODIFIED:20230710T155638Z
UID:10000054-1697587200-1697759999@westar.org
SUMMARY:NACAA Fall Membership Meeting
DESCRIPTION:
URL:https://westar.org/event/nacaa-fall-membership-meeting/
LOCATION:Alexandria\, VA
CATEGORIES:Meeting
END:VEVENT
BEGIN:VEVENT
DTSTART;VALUE=DATE:20231019
DTEND;VALUE=DATE:20231021
DTSTAMP:20260420T233834
CREATED:20230710T155826Z
LAST-MODIFIED:20230710T155826Z
UID:10000055-1697673600-1697846399@westar.org
SUMMARY:HAQAST Utah
DESCRIPTION:
URL:https://westar.org/event/haqast-utah/
LOCATION:Salt Lake City\, UT
CATEGORIES:Conference
END:VEVENT
BEGIN:VEVENT
DTSTART;TZID=America/Los_Angeles:20231023T083000
DTEND;TZID=America/Los_Angeles:20231025T113000
DTSTAMP:20260420T233834
CREATED:20230731T172131Z
LAST-MODIFIED:20230731T172131Z
UID:10000066-1698049800-1698233400@westar.org
SUMMARY:Advanced Inspector Training (NACT355)
DESCRIPTION:COURSE DESCRIPTION: The Advanced Inspector Training Course focuses on issues and techniques for the more senior inspector to help enhance and improve their inspection techniques and results. This course does not focus on any specific media but covers subject applicable to inspections in all media. The course is intended to provide additional tools to obtain information before\, during\, and after an inspection. The course will present “best practices” for conducting inspections and give the students an opportunity to discuss how these “best practices” apply or not to their own inspections. Each class will have the opportunity to discuss and evaluate specific issues or areas of interest to them. \nWESTAR’s funding and mission limit attendance at WESTAR’s educational opportunities to staff from government air pollution control agencies. \nCourse Brochure \nTo REGISTER log onto EPA’s AirKnowledge
URL:https://westar.org/event/advanced-inspector-training-nact355-2/
LOCATION:Maricopa County Air Quality Dept\, 301 W. Jefferson Street\, Phoenix\, AZ\, 85003\, United States
CATEGORIES:Training
END:VEVENT
BEGIN:VEVENT
DTSTART;TZID=America/Denver:20231025T123000
DTEND;TZID=America/Denver:20231025T140000
DTSTAMP:20260420T233834
CREATED:20231016T221800Z
LAST-MODIFIED:20231023T232032Z
UID:10000250-1698237000-1698242400@westar.org
SUMMARY:TSC/WG Co-Chairs Monthly Coordination Call
DESCRIPTION:Monthly Coordination Call with WRAP Technical Steering Committee and WRAP Work Group Co-Chairs \nAgenda\nWork Group Updates
URL:https://westar.org/event/tsc-wg-co-chairs-monthly-coordination-call-6/
END:VEVENT
BEGIN:VEVENT
DTSTART;TZID=America/Denver:20231025T140000
DTEND;TZID=America/Denver:20231025T150000
DTSTAMP:20260420T233834
CREATED:20230804T172100Z
LAST-MODIFIED:20230804T172100Z
UID:10000129-1698242400-1698246000@westar.org
SUMMARY:WESTAR Technical Committee
DESCRIPTION:The WESTAR Technical Committee includes technical professionals from the 15 member states. Participants come from a variety of backgrounds including monitoring\, emissions inventory\, and modeling analysis. Technical professionals from Tribal and local air agencies as well as EPA and Federal Land Management agencies are welcome to attend. These calls occur every month on the First Thursday at 2:00 Mountain Time. The purpose of the call is to identify policy issues of concern\, make recommendations and comment on EPA policies and proposals\, and exchange information and expertise on relevant topics. \nIf you are interested in attending these calls\, please contact Jay Baker at jbaker@westar.org.
URL:https://westar.org/event/westar-technical-committee/2023-10-25/
CATEGORIES:Committee
ORGANIZER;CN="Jay Baker":MAILTO:jbaker@westar.org
END:VEVENT
END:VCALENDAR