BEGIN:VCALENDAR
VERSION:2.0
PRODID:-//Westar - ECPv6.15.18//NONSGML v1.0//EN
CALSCALE:GREGORIAN
METHOD:PUBLISH
X-WR-CALNAME:Westar
X-ORIGINAL-URL:https://westar.org
X-WR-CALDESC:Events for Westar
REFRESH-INTERVAL;VALUE=DURATION:PT1H
X-Robots-Tag:noindex
X-PUBLISHED-TTL:PT1H
BEGIN:VTIMEZONE
TZID:America/Denver
BEGIN:DAYLIGHT
TZOFFSETFROM:-0700
TZOFFSETTO:-0600
TZNAME:MDT
DTSTART:20220313T090000
END:DAYLIGHT
BEGIN:STANDARD
TZOFFSETFROM:-0600
TZOFFSETTO:-0700
TZNAME:MST
DTSTART:20221106T080000
END:STANDARD
BEGIN:DAYLIGHT
TZOFFSETFROM:-0700
TZOFFSETTO:-0600
TZNAME:MDT
DTSTART:20230312T090000
END:DAYLIGHT
BEGIN:STANDARD
TZOFFSETFROM:-0600
TZOFFSETTO:-0700
TZNAME:MST
DTSTART:20231105T080000
END:STANDARD
BEGIN:DAYLIGHT
TZOFFSETFROM:-0700
TZOFFSETTO:-0600
TZNAME:MDT
DTSTART:20240310T090000
END:DAYLIGHT
BEGIN:STANDARD
TZOFFSETFROM:-0600
TZOFFSETTO:-0700
TZNAME:MST
DTSTART:20241103T080000
END:STANDARD
END:VTIMEZONE
BEGIN:VTIMEZONE
TZID:America/Los_Angeles
BEGIN:DAYLIGHT
TZOFFSETFROM:-0800
TZOFFSETTO:-0700
TZNAME:PDT
DTSTART:20220313T100000
END:DAYLIGHT
BEGIN:STANDARD
TZOFFSETFROM:-0700
TZOFFSETTO:-0800
TZNAME:PST
DTSTART:20221106T090000
END:STANDARD
BEGIN:DAYLIGHT
TZOFFSETFROM:-0800
TZOFFSETTO:-0700
TZNAME:PDT
DTSTART:20230312T100000
END:DAYLIGHT
BEGIN:STANDARD
TZOFFSETFROM:-0700
TZOFFSETTO:-0800
TZNAME:PST
DTSTART:20231105T090000
END:STANDARD
BEGIN:DAYLIGHT
TZOFFSETFROM:-0800
TZOFFSETTO:-0700
TZNAME:PDT
DTSTART:20240310T100000
END:DAYLIGHT
BEGIN:STANDARD
TZOFFSETFROM:-0700
TZOFFSETTO:-0800
TZNAME:PST
DTSTART:20241103T090000
END:STANDARD
END:VTIMEZONE
BEGIN:VEVENT
DTSTART;TZID=America/Denver:20230906T100000
DTEND;TZID=America/Denver:20230906T110000
DTSTAMP:20260420T210549
CREATED:20230901T163936Z
LAST-MODIFIED:20230901T163936Z
UID:10000188-1693994400-1693998000@westar.org
SUMMARY:WRAP Board Meeting
DESCRIPTION:Agenda \n 
URL:https://westar.org/event/wrap-board-meeting-5/
END:VEVENT
BEGIN:VEVENT
DTSTART;TZID=America/Denver:20230907T140000
DTEND;TZID=America/Denver:20230907T150000
DTSTAMP:20260420T210549
CREATED:20230906T152428Z
LAST-MODIFIED:20230906T152428Z
UID:10000067-1694095200-1694098800@westar.org
SUMMARY:WESTAR Planning Committee
DESCRIPTION:The WESTAR Planning Committee includes air quality planners from the 15 member states. Planners from Tribal and local air agencies as well as EPA and Federal Land Management agencies are welcome to attend. These calls occur every month on the First Thursday at 2:00 Mountain Time. The purpose of the call is to identify policy issues of concern\, make recommendations and comment on EPA policies and proposals\, and exchange information and expertise on relevant topics. \nIf you are interested in attending these calls\, please contact Jay Baker at jbaker@westar.org. \nWESTAR Planning Committee September 2023 Agenda
URL:https://westar.org/event/westar-planning-committee-2/
CATEGORIES:Committee
ORGANIZER;CN="Jay Baker":MAILTO:jbaker@westar.org
END:VEVENT
BEGIN:VEVENT
DTSTART;TZID=America/Los_Angeles:20230912T083000
DTEND;TZID=America/Los_Angeles:20230914T113000
DTSTAMP:20260420T210549
CREATED:20230420T192640Z
LAST-MODIFIED:20230605T182033Z
UID:10000036-1694507400-1694691000@westar.org
SUMMARY:Advanced Inspector Training (NACT355)
DESCRIPTION:COURSE DESCRIPTION: The Advanced Inspector Training Course focuses on issues and techniques for the more senior inspector to help enhance and improve their inspection techniques and results. This course does not focus on any specific media but covers subject applicable to inspections in all media. The course is intended to provide additional tools to obtain information before\, during\, and after an inspection. The course will present “best practices” for conducting inspections and give the students an opportunity to discuss how these “best practices” apply or not to their own inspections. Each class will have the opportunity to discuss and evaluate specific issues or areas of interest to them. \nWESTAR’s funding and mission limit attendance at WESTAR’s educational opportunities to staff from government air pollution control agencies. \nCourse Brochure \nTo REGISTER log onto EPA’s AirKnowledge
URL:https://westar.org/event/advanced-inspector-training-nact355/
LOCATION:State of Wyoming\, 5221 Yellowstone Road\, Cheyenne\, WY\, 82002\, United States
CATEGORIES:Training
END:VEVENT
BEGIN:VEVENT
DTSTART;TZID=America/Los_Angeles:20230919T100000
DTEND;TZID=America/Los_Angeles:20230921T150000
DTSTAMP:20260420T210549
CREATED:20230420T193325Z
LAST-MODIFIED:20230420T193729Z
UID:10000037-1695117600-1695308400@westar.org
SUMMARY:ONLINE - Effective Permit Writing
DESCRIPTION:COURSE DESCRIPTION: This online course presents information on the major national programs in air pollution stationary source permitting. This course was designed to provide methods and procedures used to effectively draft and review permit conditions used with a variety of permit programs. This course is designed for personnel of state and local permitting agencies who are new to permit programs\, managers of programs which are impacted by permits\, and inspectors who must read and interpret permit conditions. Examples of the various types of permit conditions are presented along with practical exercises. \nMAJOR TOPICS: \n\nIdentification of the components required in a complete permit application evaluation\,\nExplanation of the functions and purposes of each component of a complete permit application\,\nDescription of the characteristics of an effective permit\,\nExplanation of the process\, approaches that can be used to assure an effective permit is produced.\n\nWESTAR’s funding and mission limit attendance at WESTAR’s educational opportunities to staff from government air pollution control agencies. \nCourse Brochure \nTo REGISTER log onto EPA’s AirKnowledge
URL:https://westar.org/event/online-effective-permit-writing/
CATEGORIES:Training
END:VEVENT
BEGIN:VEVENT
DTSTART;VALUE=DATE:20230926
DTEND;VALUE=DATE:20230929
DTSTAMP:20260420T210549
CREATED:20230710T155045Z
LAST-MODIFIED:20230710T155045Z
UID:10000051-1695686400-1695945599@westar.org
SUMMARY:AAPCA Fall Business Meeting
DESCRIPTION:
URL:https://westar.org/event/aapca-fall-business-meeting/
LOCATION:Raleigh Marriott City Center
CATEGORIES:Meeting
END:VEVENT
BEGIN:VEVENT
DTSTART;VALUE=DATE:20230926
DTEND;VALUE=DATE:20230930
DTSTAMP:20260420T210549
CREATED:20230710T154850Z
LAST-MODIFIED:20230710T154850Z
UID:10000050-1695686400-1696031999@westar.org
SUMMARY:International Inventory Conference
DESCRIPTION:
URL:https://westar.org/event/international-inventory-conference/
CATEGORIES:Conference
END:VEVENT
BEGIN:VEVENT
DTSTART;TZID=America/Los_Angeles:20230926T083000
DTEND;TZID=America/Los_Angeles:20230928T170000
DTSTAMP:20260420T210549
CREATED:20230605T180619Z
LAST-MODIFIED:20230605T180718Z
UID:10000041-1695717000-1695920400@westar.org
SUMMARY:Monitoring Compliance Testing & Source Test Observation
DESCRIPTION:WESTAR’s Training Center will host this training course for state\, local and tribal air quality professional staff working\, or planning to work\, in source testing. \nThis lecture-based course is designed for state\, local and tribal air quality professional whose role is to observe source testing\, evaluate source test methods\, approve test protocols and review source test results as required under various federal and state regulations or as required by issued permits. This class is intended for compliance and field engineers\, scientists and technicians who have responsibility for the above source testing tasks. \nThose completing this course will gain a basic understanding of the general information associated with source testing and source test methods. This course develops the ability to plan\, guide\, evaluate\, and (after experience on the job) perform source sampling measurements to determine rates of emissions from stationary sources. It clarifies EPA Reference Methods 1 to 4\, and Method 5. The course develops knowledge of the equipment employed\, understanding of why the prescribed methods are established\, and ability to perform the calibrations and calculations which are a part of the reference methods. \nTo ensure that the source test methods utilized to demonstrate compliance are performed according to EPA guidelines\, both agency and industrial personnel will be required to observe stack tests to document that compliance with the methodology is being achieved. This will mean that an observer must be intimately familiar with numerous stack test methods\, each one with its own particular operation.
URL:https://westar.org/event/monitoring-compliance-testing-source-test-observation/
LOCATION:Cal Center Boardroom\, 8800 Cal Center Drive\, Sacrament\, CA\, 95826\, United States
CATEGORIES:Training
END:VEVENT
BEGIN:VEVENT
DTSTART;TZID=America/Denver:20230927T140000
DTEND;TZID=America/Denver:20230927T150000
DTSTAMP:20260420T210549
CREATED:20230804T172100Z
LAST-MODIFIED:20230804T172100Z
UID:10000128-1695823200-1695826800@westar.org
SUMMARY:WESTAR Technical Committee
DESCRIPTION:The WESTAR Technical Committee includes technical professionals from the 15 member states. Participants come from a variety of backgrounds including monitoring\, emissions inventory\, and modeling analysis. Technical professionals from Tribal and local air agencies as well as EPA and Federal Land Management agencies are welcome to attend. These calls occur every month on the First Thursday at 2:00 Mountain Time. The purpose of the call is to identify policy issues of concern\, make recommendations and comment on EPA policies and proposals\, and exchange information and expertise on relevant topics. \nIf you are interested in attending these calls\, please contact Jay Baker at jbaker@westar.org.
URL:https://westar.org/event/westar-technical-committee/2023-09-27/
CATEGORIES:Committee
ORGANIZER;CN="Jay Baker":MAILTO:jbaker@westar.org
END:VEVENT
END:VCALENDAR