BEGIN:VCALENDAR
VERSION:2.0
PRODID:-//Westar - ECPv6.15.18//NONSGML v1.0//EN
CALSCALE:GREGORIAN
METHOD:PUBLISH
X-ORIGINAL-URL:https://westar.org
X-WR-CALDESC:Events for Westar
REFRESH-INTERVAL;VALUE=DURATION:PT1H
X-Robots-Tag:noindex
X-PUBLISHED-TTL:PT1H
BEGIN:VTIMEZONE
TZID:America/Denver
BEGIN:DAYLIGHT
TZOFFSETFROM:-0700
TZOFFSETTO:-0600
TZNAME:MDT
DTSTART:20220313T090000
END:DAYLIGHT
BEGIN:STANDARD
TZOFFSETFROM:-0600
TZOFFSETTO:-0700
TZNAME:MST
DTSTART:20221106T080000
END:STANDARD
BEGIN:DAYLIGHT
TZOFFSETFROM:-0700
TZOFFSETTO:-0600
TZNAME:MDT
DTSTART:20230312T090000
END:DAYLIGHT
BEGIN:STANDARD
TZOFFSETFROM:-0600
TZOFFSETTO:-0700
TZNAME:MST
DTSTART:20231105T080000
END:STANDARD
BEGIN:DAYLIGHT
TZOFFSETFROM:-0700
TZOFFSETTO:-0600
TZNAME:MDT
DTSTART:20240310T090000
END:DAYLIGHT
BEGIN:STANDARD
TZOFFSETFROM:-0600
TZOFFSETTO:-0700
TZNAME:MST
DTSTART:20241103T080000
END:STANDARD
END:VTIMEZONE
BEGIN:VTIMEZONE
TZID:America/Los_Angeles
BEGIN:DAYLIGHT
TZOFFSETFROM:-0800
TZOFFSETTO:-0700
TZNAME:PDT
DTSTART:20220313T100000
END:DAYLIGHT
BEGIN:STANDARD
TZOFFSETFROM:-0700
TZOFFSETTO:-0800
TZNAME:PST
DTSTART:20221106T090000
END:STANDARD
BEGIN:DAYLIGHT
TZOFFSETFROM:-0800
TZOFFSETTO:-0700
TZNAME:PDT
DTSTART:20230312T100000
END:DAYLIGHT
BEGIN:STANDARD
TZOFFSETFROM:-0700
TZOFFSETTO:-0800
TZNAME:PST
DTSTART:20231105T090000
END:STANDARD
BEGIN:DAYLIGHT
TZOFFSETFROM:-0800
TZOFFSETTO:-0700
TZNAME:PDT
DTSTART:20240310T100000
END:DAYLIGHT
BEGIN:STANDARD
TZOFFSETFROM:-0700
TZOFFSETTO:-0800
TZNAME:PST
DTSTART:20241103T090000
END:STANDARD
END:VTIMEZONE
BEGIN:VEVENT
DTSTART;TZID=America/Denver:20230301T100000
DTEND;TZID=America/Denver:20230301T110000
DTSTAMP:20260421T203358
CREATED:20230223T002852Z
LAST-MODIFIED:20230301T163536Z
UID:10000015-1677664800-1677668400@westar.org
SUMMARY:WRAP Board Monthly Meeting
DESCRIPTION:For March\, our topical presentation will be given by Lisa Rector (NESCAUM)\, and Stef Johnson (EPA OAQPS) on wood stove testing and methods. See the agenda for more information. \nAgenda \nCall Materials
URL:https://westar.org/event/wrap-board-monthly-meeting/
END:VEVENT
BEGIN:VEVENT
DTSTART;TZID=America/Denver:20230306T083000
DTEND;TZID=America/Denver:20230309T163000
DTSTAMP:20260421T203358
CREATED:20230303T204703Z
LAST-MODIFIED:20230303T210737Z
UID:10000019-1678091400-1678379400@westar.org
SUMMARY:Intermediate Permitting (APTI 461)
DESCRIPTION:WESTAR’s Training Program will host this 4-day Intermediate Permitting training course for agency personnel who have\, or will have\, permitting responsibilities for major sources.  The objectives of the course are to provide with a high-level understanding of permitting elements\, regulatory requirements\, and policies pertaining to the major permitting programs\, and provide attendees with the knowledge\, skills\, and abilities to identify pertinent regulatory and policy materials\, and the ability to apply these to day-to-day responsibilities and activities. \n  \nMajor Topics Include: \n\nNew Source Review and Prevention of Significant Deterioration Programs – Background and History\nDefinitions\nApplicability\nRequirements\nBACT\nNAAQS Analysis\nNetting Analysis\nIncrement and Other Analyses\nNSR Reform\nRelationship between NSR and other programs\nEffective Use of Exclusions and Permit Procedures\nPre-Application Monitoring Waivers\nNonattainment Area Applicability and Requirements\nOperating Permits
URL:https://westar.org/event/intermediate-permitting-apti-461-2/
CATEGORIES:Training
ORGANIZER;CN="Jeff Gabler":MAILTO:jgabler@westar.org
END:VEVENT
BEGIN:VEVENT
DTSTART;TZID=America/Los_Angeles:20230314T083000
DTEND;TZID=America/Los_Angeles:20230316T163000
DTSTAMP:20260421T203358
CREATED:20230303T205302Z
LAST-MODIFIED:20230303T211221Z
UID:10000020-1678782600-1678984200@westar.org
SUMMARY:Principles of Environmental Compliance & Enforcement (NACT 335)
DESCRIPTION:This intensive 3-day course provides a framework for designing effective compliance strategies and enforcement programs. \nThe course defines the terms compliance and enforcement\, introduces basic principles\, and explores different approaches for implementing each element of the framework. Participants will be guided through the concepts and principles of environmental compliance and enforcement.  Participants\, through a “case study” will take part in a negotiation session to resolve a violation of environmental requirements that mimics a real-life enforcement situation. \nThis course is designed for students that seeks to understand the complete compliance process including enforcement. The student should come away with the knowledge and skills necessary to become a productive member of a compliance team. The course focuses on the enforcement case process used by US local\, state\, tribal and federal environmental agencies – primarily the administrative and civil judicial processes. Topics include targeting\, collecting data that is necessary for case development\, determining compliance status\, selecting the appropriate enforcement option\, penalties\, negotiation\, and case resolution follow-up. The course discusses all violation resolution options including informal actions\, formal notices\, administrative orders and administrative consent orders\, civil litigation settlement\, and case litigation. The importance of proper documentation and adherence to procedures will be emphasized.
URL:https://westar.org/event/principles-of-environmental-compliance-enforcement-nact-335/
CATEGORIES:Training
ORGANIZER;CN="Jeff Gabler":MAILTO:jgabler@westar.org
END:VEVENT
BEGIN:VEVENT
DTSTART;TZID=America/Denver:20230327T083000
DTEND;TZID=America/Denver:20230329T163000
DTSTAMP:20260421T203358
CREATED:20230303T211951Z
LAST-MODIFIED:20230303T211951Z
UID:10000023-1679905800-1680107400@westar.org
SUMMARY:Quality Assurance for Air Pollution Measurement Systems (APTI 470)
DESCRIPTION:Those completing this course will gain an understanding of the information associated with the management of air quality monitoring systems required under the Clean Air Act and state and local regulations. Attendees will be able to apply the following topics in establishing a measurement system: \n\nBasic concepts of statistical control charts\nRegression analysis and control charts for calibration data\nIdentification and treatment of outliers\nQuality assurance for SLAMS and PSD\nPerformance and system audits\nMeasurement\nIntra-laboratory testing\nProcurement quality control\nData validation\nQuality costs
URL:https://westar.org/event/quality-assurance-for-air-pollution-measurement-systems-apti-470/
CATEGORIES:Training
ORGANIZER;CN="Jeff Gabler":MAILTO:jgabler@westar.org
END:VEVENT
BEGIN:VEVENT
DTSTART;TZID=America/Denver:20230329T123000
DTEND;TZID=America/Denver:20230329T140000
DTSTAMP:20260421T203358
CREATED:20230223T003610Z
LAST-MODIFIED:20230328T174213Z
UID:10000016-1680093000-1680098400@westar.org
SUMMARY:TSC / WG Co-Chairs Monthly Coordination Call
DESCRIPTION:WRAP Technical Steering Committee / Work Group Co-Chairs Monthly Coordination Call \nAgenda \nSpring Business Meeting Work Group Status Updates – Draft Presentation
URL:https://westar.org/event/tsc-wg-co-chairs-monthly-coordination-call-2/
END:VEVENT
END:VCALENDAR