BEGIN:VCALENDAR
VERSION:2.0
PRODID:-//Westar - ECPv6.15.18//NONSGML v1.0//EN
CALSCALE:GREGORIAN
METHOD:PUBLISH
X-ORIGINAL-URL:https://westar.org
X-WR-CALDESC:Events for Westar
REFRESH-INTERVAL;VALUE=DURATION:PT1H
X-Robots-Tag:noindex
X-PUBLISHED-TTL:PT1H
BEGIN:VTIMEZONE
TZID:America/Los_Angeles
BEGIN:DAYLIGHT
TZOFFSETFROM:-0800
TZOFFSETTO:-0700
TZNAME:PDT
DTSTART:20230312T100000
END:DAYLIGHT
BEGIN:STANDARD
TZOFFSETFROM:-0700
TZOFFSETTO:-0800
TZNAME:PST
DTSTART:20231105T090000
END:STANDARD
BEGIN:DAYLIGHT
TZOFFSETFROM:-0800
TZOFFSETTO:-0700
TZNAME:PDT
DTSTART:20240310T100000
END:DAYLIGHT
BEGIN:STANDARD
TZOFFSETFROM:-0700
TZOFFSETTO:-0800
TZNAME:PST
DTSTART:20241103T090000
END:STANDARD
BEGIN:DAYLIGHT
TZOFFSETFROM:-0800
TZOFFSETTO:-0700
TZNAME:PDT
DTSTART:20250309T100000
END:DAYLIGHT
BEGIN:STANDARD
TZOFFSETFROM:-0700
TZOFFSETTO:-0800
TZNAME:PST
DTSTART:20251102T090000
END:STANDARD
END:VTIMEZONE
BEGIN:VEVENT
DTSTART;TZID=America/Los_Angeles:20240509T100000
DTEND;TZID=America/Los_Angeles:20240509T120000
DTSTAMP:20260420T081653
CREATED:20240509T211906Z
LAST-MODIFIED:20240509T214712Z
UID:10000302-1715248800-1715256000@westar.org
SUMMARY:6-Month Check-In: SIP Development
DESCRIPTION:WESTAR’s Training Program will host this virtual 6th month check-in (a continuation of WESTAR’s SIP Development training course)is for state\, local and tribal air quality professional staff working\, or planning to work\, in the State Implementation Planning (SIP) Program. \nWESTAR’s funding and mission limit attendance at WESTAR’s educational opportunities to staff from government air pollution control agencies. \nSIP Development Materials
URL:https://westar.org/event/6ht-month-check-in-sip-development/
CATEGORIES:Training
ORGANIZER;CN="Jeff Gabler":MAILTO:jgabler@westar.org
END:VEVENT
END:VCALENDAR