BEGIN:VCALENDAR
VERSION:2.0
PRODID:-//Westar - ECPv6.15.18//NONSGML v1.0//EN
CALSCALE:GREGORIAN
METHOD:PUBLISH
X-ORIGINAL-URL:https://westar.org
X-WR-CALDESC:Events for Westar
REFRESH-INTERVAL;VALUE=DURATION:PT1H
X-Robots-Tag:noindex
X-PUBLISHED-TTL:PT1H
BEGIN:VTIMEZONE
TZID:America/Los_Angeles
BEGIN:DAYLIGHT
TZOFFSETFROM:-0800
TZOFFSETTO:-0700
TZNAME:PDT
DTSTART:20230312T100000
END:DAYLIGHT
BEGIN:STANDARD
TZOFFSETFROM:-0700
TZOFFSETTO:-0800
TZNAME:PST
DTSTART:20231105T090000
END:STANDARD
BEGIN:DAYLIGHT
TZOFFSETFROM:-0800
TZOFFSETTO:-0700
TZNAME:PDT
DTSTART:20240310T100000
END:DAYLIGHT
BEGIN:STANDARD
TZOFFSETFROM:-0700
TZOFFSETTO:-0800
TZNAME:PST
DTSTART:20241103T090000
END:STANDARD
BEGIN:DAYLIGHT
TZOFFSETFROM:-0800
TZOFFSETTO:-0700
TZNAME:PDT
DTSTART:20250309T100000
END:DAYLIGHT
BEGIN:STANDARD
TZOFFSETFROM:-0700
TZOFFSETTO:-0800
TZNAME:PST
DTSTART:20251102T090000
END:STANDARD
END:VTIMEZONE
BEGIN:VEVENT
DTSTART;TZID=America/Los_Angeles:20240116T090000
DTEND;TZID=America/Los_Angeles:20240118T140000
DTSTAMP:20260420T164845
CREATED:20231030T183033Z
LAST-MODIFIED:20231030T184327Z
UID:10000256-1705395600-1705586400@westar.org
SUMMARY:ONLINE - Effective Permit Writing
DESCRIPTION:COURSE DESCRIPTION: This online course presents information on the major national programs in air pollution stationary source permitting. This course was designed to provide methods and procedures used to effectively draft and review permit conditions used with a variety of permit programs. This course is designed for personnel of state and local permitting agencies who are new to permit programs\, managers of programs which are impacted by permits\, and inspectors who must read and interpret permit conditions. Examples of the various types of permit conditions are presented along with practical exercises. \nMAJOR TOPICS: \n\nIdentification of the components required in a complete permit application evaluation\,\nExplanation of the functions and purposes of each component of a complete permit application\,\nDescription of the characteristics of an effective permit\,\nExplanation of the process\, approaches that can be used to assure an effective permit is produced.\n\nWESTAR’s funding and mission limit attendance at WESTAR’s educational opportunities to staff from government air pollution control agencies. \nCourse Brochure \nTo REGISTER log onto EPA’s AirKnowledge
URL:https://westar.org/event/online-effective-permit-writing-2/
CATEGORIES:Training
END:VEVENT
END:VCALENDAR