BEGIN:VCALENDAR
VERSION:2.0
PRODID:-//Westar - ECPv6.15.18//NONSGML v1.0//EN
CALSCALE:GREGORIAN
METHOD:PUBLISH
X-WR-CALNAME:Westar
X-ORIGINAL-URL:https://westar.org
X-WR-CALDESC:Events for Westar
REFRESH-INTERVAL;VALUE=DURATION:PT1H
X-Robots-Tag:noindex
X-PUBLISHED-TTL:PT1H
BEGIN:VTIMEZONE
TZID:America/Denver
BEGIN:DAYLIGHT
TZOFFSETFROM:-0700
TZOFFSETTO:-0600
TZNAME:MDT
DTSTART:20220313T090000
END:DAYLIGHT
BEGIN:STANDARD
TZOFFSETFROM:-0600
TZOFFSETTO:-0700
TZNAME:MST
DTSTART:20221106T080000
END:STANDARD
BEGIN:DAYLIGHT
TZOFFSETFROM:-0700
TZOFFSETTO:-0600
TZNAME:MDT
DTSTART:20230312T090000
END:DAYLIGHT
BEGIN:STANDARD
TZOFFSETFROM:-0600
TZOFFSETTO:-0700
TZNAME:MST
DTSTART:20231105T080000
END:STANDARD
BEGIN:DAYLIGHT
TZOFFSETFROM:-0700
TZOFFSETTO:-0600
TZNAME:MDT
DTSTART:20240310T090000
END:DAYLIGHT
BEGIN:STANDARD
TZOFFSETFROM:-0600
TZOFFSETTO:-0700
TZNAME:MST
DTSTART:20241103T080000
END:STANDARD
END:VTIMEZONE
BEGIN:VEVENT
DTSTART;VALUE=DATE:20231016
DTEND;VALUE=DATE:20231019
DTSTAMP:20260420T233725
CREATED:20230710T155339Z
LAST-MODIFIED:20230710T155339Z
UID:10000052-1697414400-1697673599@westar.org
SUMMARY:CMAS Conference
DESCRIPTION:
URL:https://westar.org/event/cmas-conference/
CATEGORIES:Conference
END:VEVENT
BEGIN:VEVENT
DTSTART;VALUE=DATE:20231017
DTEND;VALUE=DATE:20231019
DTSTAMP:20260420T233725
CREATED:20230710T155506Z
LAST-MODIFIED:20230710T155506Z
UID:10000053-1697500800-1697673599@westar.org
SUMMARY:IMPROVE Steering Committee Meeting
DESCRIPTION:
URL:https://westar.org/event/improve-steering-committee-meeting/
LOCATION:Glacier National Park\, MT
CATEGORIES:Meeting
END:VEVENT
BEGIN:VEVENT
DTSTART;VALUE=DATE:20231018
DTEND;VALUE=DATE:20231020
DTSTAMP:20260420T233725
CREATED:20230710T155638Z
LAST-MODIFIED:20230710T155638Z
UID:10000054-1697587200-1697759999@westar.org
SUMMARY:NACAA Fall Membership Meeting
DESCRIPTION:
URL:https://westar.org/event/nacaa-fall-membership-meeting/
LOCATION:Alexandria\, VA
CATEGORIES:Meeting
END:VEVENT
END:VCALENDAR