BEGIN:VCALENDAR
VERSION:2.0
PRODID:-//Westar - ECPv6.15.18//NONSGML v1.0//EN
CALSCALE:GREGORIAN
METHOD:PUBLISH
X-ORIGINAL-URL:https://westar.org
X-WR-CALDESC:Events for Westar
REFRESH-INTERVAL;VALUE=DURATION:PT1H
X-Robots-Tag:noindex
X-PUBLISHED-TTL:PT1H
BEGIN:VTIMEZONE
TZID:America/Denver
BEGIN:DAYLIGHT
TZOFFSETFROM:-0700
TZOFFSETTO:-0600
TZNAME:MDT
DTSTART:20220313T090000
END:DAYLIGHT
BEGIN:STANDARD
TZOFFSETFROM:-0600
TZOFFSETTO:-0700
TZNAME:MST
DTSTART:20221106T080000
END:STANDARD
BEGIN:DAYLIGHT
TZOFFSETFROM:-0700
TZOFFSETTO:-0600
TZNAME:MDT
DTSTART:20230312T090000
END:DAYLIGHT
BEGIN:STANDARD
TZOFFSETFROM:-0600
TZOFFSETTO:-0700
TZNAME:MST
DTSTART:20231105T080000
END:STANDARD
BEGIN:DAYLIGHT
TZOFFSETFROM:-0700
TZOFFSETTO:-0600
TZNAME:MDT
DTSTART:20240310T090000
END:DAYLIGHT
BEGIN:STANDARD
TZOFFSETFROM:-0600
TZOFFSETTO:-0700
TZNAME:MST
DTSTART:20241103T080000
END:STANDARD
END:VTIMEZONE
BEGIN:VEVENT
DTSTART;VALUE=DATE:20230822
DTEND;VALUE=DATE:20230823
DTSTAMP:20260420T233943
CREATED:20230420T191305Z
LAST-MODIFIED:20230420T191519Z
UID:10000033-1692662400-1692748799@westar.org
SUMMARY:Compliance Assurance Monitoring (PERM204)
DESCRIPTION:Course Description: Those completing this course will gain a basic understanding of the general information associated with compliance assurance monitoring. CAM concepts like background\, 40 CFR part 64 (CAM) applicability\, who will be affected by CAM\, who is exempt from CAM\, CAM timing\, monitoring design criteria\, frequency of monitoring\, source\, District & EPA roles in evaluating CAM plans\, quality improvement plans will be discussed in this course. \nAttendees will be able to perform regulatory reviews involving the following elements of CAM: \n\nEffect of Title V\nBackground of CAM\nPart 64 applicability\nException\nCAM monitoring design criteria\nSource\, district\, and EPA Roles\nQuality Improvement plan\n\nTarget Audience: This course is intended for entry-level staff. \nWESTAR’s funding and mission limit attendance at WESTAR’s educational opportunities to staff from government air pollution control agencies. \nCourse Brochure \nTo REGISTER log onto EPA’s AirKnowledge
URL:https://westar.org/event/compliance-assurance-monitoring-perm204/
LOCATION:Northern Nevada Public Health\, 1001 E. Ninth Street\, Reno\, NV\, 89512\, United States
CATEGORIES:Training
END:VEVENT
END:VCALENDAR