BEGIN:VCALENDAR
VERSION:2.0
PRODID:-//Westar - ECPv6.15.18//NONSGML v1.0//EN
CALSCALE:GREGORIAN
METHOD:PUBLISH
X-ORIGINAL-URL:https://westar.org
X-WR-CALDESC:Events for Westar
REFRESH-INTERVAL;VALUE=DURATION:PT1H
X-Robots-Tag:noindex
X-PUBLISHED-TTL:PT1H
BEGIN:VTIMEZONE
TZID:America/Denver
BEGIN:DAYLIGHT
TZOFFSETFROM:-0700
TZOFFSETTO:-0600
TZNAME:MDT
DTSTART:20220313T090000
END:DAYLIGHT
BEGIN:STANDARD
TZOFFSETFROM:-0600
TZOFFSETTO:-0700
TZNAME:MST
DTSTART:20221106T080000
END:STANDARD
BEGIN:DAYLIGHT
TZOFFSETFROM:-0700
TZOFFSETTO:-0600
TZNAME:MDT
DTSTART:20230312T090000
END:DAYLIGHT
BEGIN:STANDARD
TZOFFSETFROM:-0600
TZOFFSETTO:-0700
TZNAME:MST
DTSTART:20231105T080000
END:STANDARD
BEGIN:DAYLIGHT
TZOFFSETFROM:-0700
TZOFFSETTO:-0600
TZNAME:MDT
DTSTART:20240310T090000
END:DAYLIGHT
BEGIN:STANDARD
TZOFFSETFROM:-0600
TZOFFSETTO:-0700
TZNAME:MST
DTSTART:20241103T080000
END:STANDARD
END:VTIMEZONE
BEGIN:VEVENT
DTSTART;TZID=America/Denver:20230306T083000
DTEND;TZID=America/Denver:20230309T163000
DTSTAMP:20260421T172857
CREATED:20230303T204703Z
LAST-MODIFIED:20230303T210737Z
UID:10000019-1678091400-1678379400@westar.org
SUMMARY:Intermediate Permitting (APTI 461)
DESCRIPTION:WESTAR’s Training Program will host this 4-day Intermediate Permitting training course for agency personnel who have\, or will have\, permitting responsibilities for major sources.  The objectives of the course are to provide with a high-level understanding of permitting elements\, regulatory requirements\, and policies pertaining to the major permitting programs\, and provide attendees with the knowledge\, skills\, and abilities to identify pertinent regulatory and policy materials\, and the ability to apply these to day-to-day responsibilities and activities. \n  \nMajor Topics Include: \n\nNew Source Review and Prevention of Significant Deterioration Programs – Background and History\nDefinitions\nApplicability\nRequirements\nBACT\nNAAQS Analysis\nNetting Analysis\nIncrement and Other Analyses\nNSR Reform\nRelationship between NSR and other programs\nEffective Use of Exclusions and Permit Procedures\nPre-Application Monitoring Waivers\nNonattainment Area Applicability and Requirements\nOperating Permits
URL:https://westar.org/event/intermediate-permitting-apti-461-2/
CATEGORIES:Training
ORGANIZER;CN="Jeff Gabler":MAILTO:jgabler@westar.org
END:VEVENT
END:VCALENDAR